BEGIN:VCALENDAR
VERSION:2.0
PRODID:-//wp-events-plugin.com//7.2.1//EN
TZID:Europe/London
X-WR-TIMEZONE:Europe/London
BEGIN:VEVENT
UID:28@shreekrishnamandirskrc.org.uk
DTSTART;TZID=Europe/London:20251108T153000
DTEND;TZID=Europe/London:20251108T153000
DTSTAMP:20251103T105206Z
URL:https://shreekrishnamandirskrc.org.uk/events/diwali-mahotsav-2025-2/
SUMMARY:Diwali Mahotsav 2025
DESCRIPTION:Ticket Booking\n\nClick Here to Book Ticket\n
ATTACH;FMTTYPE=image/jpeg:https://shreekrishnamandirskrc.org.uk/wp-content
 /uploads/2025/10/b5553df4-08ca-4fde-a25e-2088e241837f.webp
LOCATION:https://maps.app.goo.gl/SwjbVtjg9GvuhnVC6
END:VEVENT
BEGIN:VTIMEZONE
TZID:Europe/London
X-LIC-LOCATION:Europe/London
BEGIN:STANDARD
DTSTART:20251026T010000
TZOFFSETFROM:+0100
TZOFFSETTO:+0000
TZNAME:GMT
END:STANDARD
END:VTIMEZONE
END:VCALENDAR