BEGIN:VCALENDAR
VERSION:2.0
PRODID:-//wp-events-plugin.com//7.2.1//EN
TZID:Europe/London
X-WR-TIMEZONE:Europe/London
BEGIN:VEVENT
UID:27@shreekrishnamandirskrc.org.uk
DTSTART;TZID=Europe/London;VALUE=DATE:20251020
DTEND;TZID=Europe/London;VALUE=DATE:20251021
DTSTAMP:20251028T163549Z
URL:https://shreekrishnamandirskrc.org.uk/events/diwali/
SUMMARY:DIWALI
DESCRIPTION:
ATTACH;FMTTYPE=image/jpeg:https://shreekrishnamandirskrc.org.uk/wp-content
 /uploads/2025/10/ChatGPT-Image-Oct-6-2025-09_03_29-PM.png
END:VEVENT
BEGIN:VTIMEZONE
TZID:Europe/London
X-LIC-LOCATION:Europe/London
BEGIN:DAYLIGHT
DTSTART:20250330T020000
TZOFFSETFROM:+0000
TZOFFSETTO:+0100
TZNAME:BST
END:DAYLIGHT
END:VTIMEZONE
END:VCALENDAR