BEGIN:VCALENDAR
VERSION:2.0
PRODID:-//wp-events-plugin.com//7.2.1//EN
TZID:Europe/London
X-WR-TIMEZONE:Europe/London
BEGIN:VEVENT
UID:25@shreekrishnamandirskrc.org.uk
DTSTART;TZID=Europe/London:20251004T173000
DTEND;TZID=Europe/London:20251004T173000
DTSTAMP:20251028T163502Z
URL:https://shreekrishnamandirskrc.org.uk/events/dussehra-utsav-2023-2/
SUMMARY:Dussehra Utsav 2023
DESCRIPTION:
ATTACH;FMTTYPE=image/jpeg:https://shreekrishnamandirskrc.org.uk/wp-content
 /uploads/2025/10/WhatsApp-Image-2025-09-30-at-1.29.28-PM.jpeg
END:VEVENT
BEGIN:VTIMEZONE
TZID:Europe/London
X-LIC-LOCATION:Europe/London
BEGIN:DAYLIGHT
DTSTART:20250330T020000
TZOFFSETFROM:+0000
TZOFFSETTO:+0100
TZNAME:BST
END:DAYLIGHT
END:VTIMEZONE
END:VCALENDAR