BEGIN:VCALENDAR
VERSION:2.0
PRODID:-//wp-events-plugin.com//7.2.1//EN
TZID:Europe/London
X-WR-TIMEZONE:Europe/London
BEGIN:VEVENT
UID:34@shreekrishnamandirskrc.org.uk
DTSTART;TZID=Europe/London:20260122T180000
DTEND;TZID=Europe/London:20260122T200000
DTSTAMP:20260131T124700Z
URL:https://shreekrishnamandirskrc.org.uk/events/ganesh-janmotsav/
SUMMARY:Ganesh Janmotsav
DESCRIPTION:
ATTACH;FMTTYPE=image/jpeg:https://shreekrishnamandirskrc.org.uk/wp-content
 /uploads/2026/01/Ganesh.jpeg
END:VEVENT
BEGIN:VTIMEZONE
TZID:Europe/London
X-LIC-LOCATION:Europe/London
BEGIN:STANDARD
DTSTART:20251026T010000
TZOFFSETFROM:+0100
TZOFFSETTO:+0000
TZNAME:GMT
END:STANDARD
END:VTIMEZONE
END:VCALENDAR