BEGIN:VCALENDAR
VERSION:2.0
PRODID:-//wp-events-plugin.com//7.2.1//EN
TZID:Europe/London
X-WR-TIMEZONE:Europe/London
BEGIN:VEVENT
UID:20@shreekrishnamandirskrc.org.uk
DTSTART;TZID=Europe/London:20250628T100000
DTEND;TZID=Europe/London:20250628T100000
DTSTAMP:20251028T163252Z
URL:https://shreekrishnamandirskrc.org.uk/events/jagannath-rath-yatra-2/
SUMMARY:Jagannath Rath Yatra
DESCRIPTION:
ATTACH;FMTTYPE=image/jpeg:https://shreekrishnamandirskrc.org.uk/wp-content
 /uploads/2025/04/WhatsApp-Image-2025-06-19-at-09.33.33.jpeg
END:VEVENT
BEGIN:VTIMEZONE
TZID:Europe/London
X-LIC-LOCATION:Europe/London
BEGIN:DAYLIGHT
DTSTART:20250330T020000
TZOFFSETFROM:+0000
TZOFFSETTO:+0100
TZNAME:BST
END:DAYLIGHT
END:VTIMEZONE
END:VCALENDAR