BEGIN:VCALENDAR
VERSION:2.0
PRODID:-//wp-events-plugin.com//7.2.1//EN
TZID:Europe/London
X-WR-TIMEZONE:Europe/London
BEGIN:VEVENT
UID:22@shreekrishnamandirskrc.org.uk
DTSTART;TZID=Europe/London:20250815T210000
DTEND;TZID=Europe/London:20250815T210000
DTSTAMP:20251028T163339Z
URL:https://shreekrishnamandirskrc.org.uk/events/janmasthami-utsav-2025-2/
SUMMARY:Janmasthami Utsav 2025
DESCRIPTION:
ATTACH;FMTTYPE=image/jpeg:https://shreekrishnamandirskrc.org.uk/wp-content
 /uploads/2025/10/Screenshot-2025-10-18-125711.png
END:VEVENT
BEGIN:VTIMEZONE
TZID:Europe/London
X-LIC-LOCATION:Europe/London
BEGIN:DAYLIGHT
DTSTART:20250330T020000
TZOFFSETFROM:+0000
TZOFFSETTO:+0100
TZNAME:BST
END:DAYLIGHT
END:VTIMEZONE
END:VCALENDAR