BEGIN:VCALENDAR
VERSION:2.0
PRODID:-//wp-events-plugin.com//7.2.1//EN
TZID:Europe/London
X-WR-TIMEZONE:Europe/London
BEGIN:VEVENT
UID:39@shreekrishnamandirskrc.org.uk
DTSTART;TZID=Europe/London:20260303T184500
DTEND;TZID=Europe/London:20260303T204500
DTSTAMP:20260227T115306Z
URL:https://shreekrishnamandirskrc.org.uk/events/kanhaji-sang-holi/
SUMMARY:Kanhaji Sang Holi
DESCRIPTION:
ATTACH;FMTTYPE=image/jpeg:https://shreekrishnamandirskrc.org.uk/wp-content
 /uploads/2025/11/holi_dahan.jpeg
END:VEVENT
BEGIN:VTIMEZONE
TZID:Europe/London
X-LIC-LOCATION:Europe/London
BEGIN:STANDARD
DTSTART:20251026T010000
TZOFFSETFROM:+0100
TZOFFSETTO:+0000
TZNAME:GMT
END:STANDARD
END:VTIMEZONE
END:VCALENDAR