BEGIN:VCALENDAR
VERSION:2.0
PRODID:-//wp-events-plugin.com//7.2.1//EN
TZID:Europe/London
X-WR-TIMEZONE:Europe/London
BEGIN:VEVENT
UID:31@shreekrishnamandirskrc.org.uk
DTSTART;TZID=Europe/London:20251101T000000
DTEND;TZID=Europe/London:20251101T000000
DTSTAMP:20251030T160412Z
URL:https://shreekrishnamandirskrc.org.uk/events/mandir-celebrating-tulsi-
 vivah/
SUMMARY:Mandir Celebrating TULSI VIVAH
DESCRIPTION:
ATTACH;FMTTYPE=image/jpeg:https://shreekrishnamandirskrc.org.uk/wp-content
 /uploads/2025/10/pngtree-coming-soon-background-in-memphis-style-picture-i
 mage_8729367.png
END:VEVENT
BEGIN:VTIMEZONE
TZID:Europe/London
X-LIC-LOCATION:Europe/London
BEGIN:STANDARD
DTSTART:20251026T010000
TZOFFSETFROM:+0100
TZOFFSETTO:+0000
TZNAME:GMT
END:STANDARD
END:VTIMEZONE
END:VCALENDAR