BEGIN:VCALENDAR
VERSION:2.0
PRODID:-//wp-events-plugin.com//7.2.1//EN
TZID:Europe/London
X-WR-TIMEZONE:Europe/London
BEGIN:VEVENT
UID:36@shreekrishnamandirskrc.org.uk
DTSTART;TZID=Europe/London;VALUE=DATE:20260215
DTEND;TZID=Europe/London;VALUE=DATE:20260216
DTSTAMP:20260210T212907Z
URL:https://shreekrishnamandirskrc.org.uk/events/shivaratri/
SUMMARY:Shivaratri
DESCRIPTION:
ATTACH;FMTTYPE=image/jpeg:https://shreekrishnamandirskrc.org.uk/wp-content
 /uploads/2026/01/shivratri.jpeg
END:VEVENT
BEGIN:VTIMEZONE
TZID:Europe/London
X-LIC-LOCATION:Europe/London
BEGIN:STANDARD
DTSTART:20251026T010000
TZOFFSETFROM:+0100
TZOFFSETTO:+0000
TZNAME:GMT
END:STANDARD
END:VTIMEZONE
END:VCALENDAR